BEGIN:VCALENDAR
METHOD:PUBLISH
VERSION:2.0
PRODID:-//hacksw/handcal//NONSGML v1.0//EN
BEGIN:VEVENT
DTSTAMP:20260422T180000
DTSTART:20260422T180000
DTEND:20260422T183000
SUMMARY:Inspection
LOCATION:27 Roslyn Park Drive Harkness VIC 3337
DESCRIPTION:
UID:a5d0a2fe-e4c9-4bb5-8b1a-405c589669c0@enlivenai.com.au
END:VEVENT
END:VCALENDAR
