BEGIN:VCALENDAR
METHOD:PUBLISH
VERSION:2.0
PRODID:-//hacksw/handcal//NONSGML v1.0//EN
BEGIN:VEVENT
DTSTAMP:20260422T170000
DTSTART:20260422T170000
DTEND:20260422T173000
SUMMARY:Inspection
LOCATION:3/2A Frederick  Street Croydon VIC 3136
DESCRIPTION:
UID:4b33700c-da81-4b35-9cda-0b7ee8d8457b@enlivenai.com.au
END:VEVENT
END:VCALENDAR
